BEGIN:VCALENDAR
VERSION:2.0
PRODID:-//wp-events-plugin.com//7.2.3.1//EN
TZID:America/Chicago
X-WR-TIMEZONE:America/Chicago
BEGIN:VEVENT
UID:1791@irontrailmotorseventcenter.com
DTSTART;TZID=America/Chicago:20241114T093000
DTEND;TZID=America/Chicago:20241114T133000
DTSTAMP:20241112T222821Z
URL:https://irontrailmotorseventcenter.com/events/2024-misabe-cultural-exp
 erience-2/
SUMMARY:2024 Misaabe Cultural Experience
DESCRIPTION:Misaabe Cultural Experience Wednesday 11/13 &amp\; Thursday 11/
 14 from 9:30 am - 1:30 pm AND 6:00 - 7:30 pm! FREE ENTRY! Featuring Native
  American Speakers\, Demonstrations\, Artifact Displays\, Cultural Teachin
 gs\, Question &amp\; Answer Sessions – Topics to include: Art\, History\
 , Language\, Health\, Education. &amp\; Social Issues. Two Day Event!!
ATTACH;FMTTYPE=image/jpeg:https://irontrailmotorseventcenter.com/wp-conten
 t/uploads/2024/11/Misabe-Cultural-Experience-Website.png
END:VEVENT
BEGIN:VTIMEZONE
TZID:America/Chicago
X-LIC-LOCATION:America/Chicago
BEGIN:STANDARD
DTSTART:20241103T010000
TZOFFSETFROM:-0500
TZOFFSETTO:-0600
TZNAME:CST
END:STANDARD
END:VTIMEZONE
END:VCALENDAR