BEGIN:VCALENDAR
VERSION:2.0
PRODID:-//wp-events-plugin.com//7.2.3.1//EN
TZID:America/Chicago
X-WR-TIMEZONE:America/Chicago
BEGIN:VEVENT
UID:1384@irontrailmotorseventcenter.com
DTSTART;TZID=America/Chicago:20240413T180000
DTEND;TZID=America/Chicago:20240413T230000
DTSTAMP:20240418T211735Z
URL:https://irontrailmotorseventcenter.com/events/hairball-a-night-of-bomb
 astic-arena-rock/
SUMMARY:Hairball: A Night of Bombastic Arena Rock
DESCRIPTION:HERE COMES HAIRBALL! They've played Viking's Halftime\, they've
  sold out everywhere they go\, they're always on fire and now they're play
 ing the Iron Trail Motors Event Center's Toyota Arena on April 13! Gates o
 pen at 6pm\, music kicks off at 7pm with our Northern MN favorite\, The No
 rthwood's Band until 7:45. Hairball takes the stage at 8:15 and rocks unti
 l 10:15. This is an all ages show but be prepared to show your ID at the g
 ate for a 21+ wristband - we will have multiple full bars throughout the v
 enue. Upper and Lower Concessions will be open all night for arena food fa
 vorites. Hairball sells out everywhere so get your tickets now! 
ATTACH;FMTTYPE=image/jpeg:https://irontrailmotorseventcenter.com/wp-conten
 t/uploads/2024/03/725b6907-815a-46ca-a8ea-f5d02b754f5e_resize.jpg
CATEGORIES:Show in Past Events
END:VEVENT
BEGIN:VTIMEZONE
TZID:America/Chicago
X-LIC-LOCATION:America/Chicago
BEGIN:DAYLIGHT
DTSTART:20240310T030000
TZOFFSETFROM:-0600
TZOFFSETTO:-0500
TZNAME:CDT
END:DAYLIGHT
END:VTIMEZONE
END:VCALENDAR