BEGIN:VCALENDAR
VERSION:2.0
PRODID:-//wp-events-plugin.com//7.2.3.1//EN
TZID:America/Chicago
X-WR-TIMEZONE:America/Chicago
BEGIN:VEVENT
UID:3377@irontrailmotorseventcenter.com
DTSTART;TZID=America/Chicago:20260425T100000
DTEND;TZID=America/Chicago:20260425T220000
DTSTAMP:20260420T184316Z
URL:https://irontrailmotorseventcenter.com/events/walking-track-is-closed-
 on-april-25-2026/
SUMMARY:Walking Track is Closed on April 25\, 2026
DESCRIPTION:\nWALKING TRACK CLOSURE NOTICE\n\n\nOur Walking Track is CLOSED
  to the public on April 25\, 2026 from 10 am - 10 pm as we will be host to
  an event in the Toyota Arena.\n\n\nThank you for your patience and unders
 tanding.\n
ATTACH;FMTTYPE=image/jpeg:https://irontrailmotorseventcenter.com/wp-conten
 t/uploads/2026/04/Walking-Track-Closed-04.25.2026.png
CATEGORIES:Special Events,Walking Track &amp; Fitness Center
END:VEVENT
BEGIN:VTIMEZONE
TZID:America/Chicago
X-LIC-LOCATION:America/Chicago
BEGIN:DAYLIGHT
DTSTART:20260308T030000
TZOFFSETFROM:-0600
TZOFFSETTO:-0500
TZNAME:CDT
END:DAYLIGHT
END:VTIMEZONE
END:VCALENDAR